BEGIN:VCALENDAR
VERSION:2.0
PRODID:-//AudioTheme 2.3.0
BEGIN:VEVENT
UID:urn:uuid:7af552ed-74a6-4052-9274-4764874346e3
URL:https://melissaplett.com/shows/beaus-brewery/
DTSTART;TZID=GMT:20200322T000000
SUMMARY:Beau's Brewery
LOCATION:Beau's All Natural Brewing Co\, 10 Terry Fox Drive\, Vankleek Hill\, Ontario
END:VEVENT
END:VCALENDAR
