BEGIN:VCALENDAR
VERSION:2.0
PRODID:-//AudioTheme 2.3.0
BEGIN:VEVENT
UID:urn:uuid:665f9894-9f61-4734-a12b-0f23b6482ca2
URL:https://melissaplett.com/shows/fireside-beer-jam-3/
DTSTART;TZID=GMT:20200409T000000
SUMMARY:Fireside Beer Jam
LOCATION:Kahnawake Brewing Company\, 22 Route 138\, Kahnawake\, Quebec
END:VEVENT
END:VCALENDAR
