BEGIN:VCALENDAR
VERSION:2.0
PRODID:-//AudioTheme 2.3.0
BEGIN:VEVENT
UID:urn:uuid:be4e2531-5052-442b-b664-d7abf293be55
URL:https://melissaplett.com/shows/fireside-beer-jam-4/
DTSTART;TZID=GMT:20200423T000000
SUMMARY:Fireside Beer Jam
LOCATION:Kahnawake Brewing Company\, 22 Route 138\, Kahnawake\, Quebec
END:VEVENT
END:VCALENDAR
