BEGIN:VCALENDAR
VERSION:2.0
PRODID:-//AudioTheme 2.3.0
BEGIN:VEVENT
UID:urn:uuid:7dfe02a1-2a13-4213-ae33-bfe506628569
URL:https://melissaplett.com/shows/irish-haven-3/
DTSTART;TZID=GMT:20200322T000000
SUMMARY:Irish Haven
LOCATION:Irish Haven\, 5721 4th Ave\, Brooklyn\, New York
END:VEVENT
END:VCALENDAR
