BEGIN:VCALENDAR
VERSION:2.0
PRODID:-//AudioTheme 2.3.0
BEGIN:VEVENT
UID:urn:uuid:f1c8c12e-9d9c-4922-b516-0a85f0a4a1fb
URL:https://melissaplett.com/shows/shrine-5/
DTSTART;TZID=GMT:20200321T000000
SUMMARY:Shrine
LOCATION:Shrine\, 2271 ADAM CLAYTON POWELL\, New York\, New York\, United States\, 10030
END:VEVENT
END:VCALENDAR
